BEGIN:VCALENDAR
VERSION:2.0
PRODID:-//Club des Entreprises du Grand Paris - ECPv6.13.1//NONSGML v1.0//EN
CALSCALE:GREGORIAN
METHOD:PUBLISH
X-ORIGINAL-URL:http://www.clubgrandparis.org
X-WR-CALDESC:Évènements pour Club des Entreprises du Grand Paris
REFRESH-INTERVAL;VALUE=DURATION:PT1H
X-Robots-Tag:noindex
X-PUBLISHED-TTL:PT1H
BEGIN:VTIMEZONE
TZID:Europe/Paris
BEGIN:DAYLIGHT
TZOFFSETFROM:+0100
TZOFFSETTO:+0200
TZNAME:CEST
DTSTART:20230326T010000
END:DAYLIGHT
BEGIN:STANDARD
TZOFFSETFROM:+0200
TZOFFSETTO:+0100
TZNAME:CET
DTSTART:20231029T010000
END:STANDARD
END:VTIMEZONE
BEGIN:VEVENT
DTSTART;TZID=Europe/Paris:20230522T190000
DTEND;TZID=Europe/Paris:20230522T213000
DTSTAMP:20260423T110048
CREATED:20230419T135706Z
LAST-MODIFIED:20230419T140909Z
UID:11659-1684782000-1684791000@www.clubgrandparis.org
SUMMARY:Master Class : "Quel Grand Paris demain ?" avec Patrice LECLERC
DESCRIPTION:Notre prochaine MasterClass « Quel Grand Paris Demain ? Réforme ou pas réforme … ? » recevra Patrice Leclerc\, Maire de Gennevilliers et Conseiller métropolitain du Grand Paris.\nCette rencontre aura lieu le Lundi 22 mai 2023 de 19h à 21h30\n\n\n\n\n  \n\nInscrivez-vous
URL:http://www.clubgrandparis.org/event/quel-grand-paris-demain-avec-patrice-leclerc/
LOCATION:Master class
CATEGORIES:Master class
ATTACH;FMTTYPE=image/png:http://www.clubgrandparis.org/wp-content/uploads/6-fevrier-2023-1200-×-735-px-2.png
END:VEVENT
END:VCALENDAR