BEGIN:VCALENDAR
VERSION:2.0
PRODID:-//Club des Entreprises du Grand Paris - ECPv6.13.1//NONSGML v1.0//EN
CALSCALE:GREGORIAN
METHOD:PUBLISH
X-ORIGINAL-URL:http://www.clubgrandparis.org
X-WR-CALDESC:Évènements pour Club des Entreprises du Grand Paris
REFRESH-INTERVAL;VALUE=DURATION:PT1H
X-Robots-Tag:noindex
X-PUBLISHED-TTL:PT1H
BEGIN:VTIMEZONE
TZID:Europe/Paris
BEGIN:DAYLIGHT
TZOFFSETFROM:+0100
TZOFFSETTO:+0200
TZNAME:CEST
DTSTART:20240331T010000
END:DAYLIGHT
BEGIN:STANDARD
TZOFFSETFROM:+0200
TZOFFSETTO:+0100
TZNAME:CET
DTSTART:20241027T010000
END:STANDARD
END:VTIMEZONE
BEGIN:VEVENT
DTSTART;TZID=Europe/Paris:20240424T190000
DTEND;TZID=Europe/Paris:20240424T213000
DTSTAMP:20260422T151007
CREATED:20240403T134700Z
LAST-MODIFIED:20240403T134706Z
UID:12494-1713985200-1713994200@www.clubgrandparis.org
SUMMARY:Quel Grand Paris demain pour le Logement ? avec Anne-Sophie GRAVE
DESCRIPTION:Quel Grand Paris demain pour le Logement ? avec Anne-Sophie GRAVE le mercredi 24 avril 2024  \n\nInscrivez-vous
URL:http://www.clubgrandparis.org/event/quel-grand-paris-demain-pour-le-logement-avec-anne-sophie-grave/
CATEGORIES:Master class
ATTACH;FMTTYPE=image/png:http://www.clubgrandparis.org/wp-content/uploads/MasterClass-Anne-Sophie-Grave.png
END:VEVENT
END:VCALENDAR