BEGIN:VCALENDAR
VERSION:2.0
PRODID:-//Club des Entreprises du Grand Paris - ECPv6.13.1//NONSGML v1.0//EN
CALSCALE:GREGORIAN
METHOD:PUBLISH
X-ORIGINAL-URL:http://www.clubgrandparis.org
X-WR-CALDESC:Évènements pour Club des Entreprises du Grand Paris
REFRESH-INTERVAL;VALUE=DURATION:PT1H
X-Robots-Tag:noindex
X-PUBLISHED-TTL:PT1H
BEGIN:VTIMEZONE
TZID:Europe/Paris
BEGIN:DAYLIGHT
TZOFFSETFROM:+0100
TZOFFSETTO:+0200
TZNAME:CEST
DTSTART:20220327T010000
END:DAYLIGHT
BEGIN:STANDARD
TZOFFSETFROM:+0200
TZOFFSETTO:+0100
TZNAME:CET
DTSTART:20221030T010000
END:STANDARD
END:VTIMEZONE
BEGIN:VEVENT
DTSTART;TZID=Europe/Paris:20221114T190000
DTEND;TZID=Europe/Paris:20221114T190000
DTSTAMP:20260423T223210
CREATED:20230320T170426Z
LAST-MODIFIED:20230320T170847Z
UID:11288-1668452400-1668452400@www.clubgrandparis.org
SUMMARY:Emmanuel GREGOIRE
DESCRIPTION:
URL:http://www.clubgrandparis.org/event/emmanuel-gregoire/
LOCATION:Master class
CATEGORIES:Master class
ATTACH;FMTTYPE=image/jpeg:http://www.clubgrandparis.org/wp-content/uploads/Emmanuel-Gregoire-Les-Rencontres-VIP-du-Grand-Paris-scaled-e1679937208142.jpg
END:VEVENT
END:VCALENDAR