BEGIN:VCALENDAR
VERSION:2.0
PRODID:-//Club des Entreprises du Grand Paris - ECPv6.13.1//NONSGML v1.0//EN
CALSCALE:GREGORIAN
METHOD:PUBLISH
X-ORIGINAL-URL:http://www.clubgrandparis.org
X-WR-CALDESC:Évènements pour Club des Entreprises du Grand Paris
REFRESH-INTERVAL;VALUE=DURATION:PT1H
X-Robots-Tag:noindex
X-PUBLISHED-TTL:PT1H
BEGIN:VTIMEZONE
TZID:Europe/Paris
BEGIN:DAYLIGHT
TZOFFSETFROM:+0100
TZOFFSETTO:+0200
TZNAME:CEST
DTSTART:20230326T010000
END:DAYLIGHT
BEGIN:STANDARD
TZOFFSETFROM:+0200
TZOFFSETTO:+0100
TZNAME:CET
DTSTART:20231029T010000
END:STANDARD
END:VTIMEZONE
BEGIN:VEVENT
DTSTART;TZID=Europe/Paris:20231218T190000
DTEND;TZID=Europe/Paris:20231218T213000
DTSTAMP:20260423T002141
CREATED:20231103T133350Z
LAST-MODIFIED:20231103T135659Z
UID:12118-1702926000-1702935000@www.clubgrandparis.org
SUMMARY:SDRIF-E : Quel Grand Paris de l’Aménagement demain ? avec Jean-Philippe DUGOIN-CLEMENT
DESCRIPTION:SDRIF-E : Quel Grand Paris de l’Aménagement demain ? avec Jean-Philippe DUGOIN-CLEMENT \n\nInscrivez-vous
URL:http://www.clubgrandparis.org/event/sdrif-e-quel-grand-paris-de-lamenagement-demain-avec-jean-philippe-dugoin-clement/
CATEGORIES:Master class
ATTACH;FMTTYPE=image/png:http://www.clubgrandparis.org/wp-content/uploads/MasterClass-2023-3.png
END:VEVENT
END:VCALENDAR